Package: RSVSim Version: 1.42.0 Command: /Library/Frameworks/R.framework/Resources/bin/R CMD INSTALL RSVSim StartedAt: 2024-04-16 10:58:16 -0400 (Tue, 16 Apr 2024) EndedAt: 2024-04-16 10:58:55 -0400 (Tue, 16 Apr 2024) EllapsedTime: 39.1 seconds RetCode: 0 Status: OK