Package: RPA Version: 1.58.0 Command: /Library/Frameworks/R.framework/Resources/bin/R CMD check --install=check:RPA.install-out.txt --library=/Library/Frameworks/R.framework/Resources/library --no-vignettes --timings RPA_1.58.0.tar.gz StartedAt: 2024-04-18 01:56:02 -0400 (Thu, 18 Apr 2024) EndedAt: 2024-04-18 01:58:50 -0400 (Thu, 18 Apr 2024) EllapsedTime: 168.4 seconds RetCode: 0 Status: OK CheckDir: RPA.Rcheck Warnings: 0