Package: RPA Version: 1.58.0 Command: rm -rf RPA.buildbin-libdir && mkdir RPA.buildbin-libdir && /Users/biocbuild/BBS/utils/build-universal.sh RPA_1.58.0.tar.gz /Library/Frameworks/R.framework/Resources/bin/R RPA.buildbin-libdir StartedAt: 2024-04-18 11:01:14 -0400 (Thu, 18 Apr 2024) EndedAt: 2024-04-18 11:01:46 -0400 (Thu, 18 Apr 2024) EllapsedTime: 31.9 seconds RetCode: 0 Status: OK PackageFile: RPA_1.58.0.tgz PackageFileSize: 385.8 KiB