Package: ROTS Version: 1.30.0 Command: /Library/Frameworks/R.framework/Resources/bin/R CMD build --keep-empty-dirs --no-resave-data ROTS StartedAt: 2024-04-17 01:24:39 -0400 (Wed, 17 Apr 2024) EndedAt: 2024-04-17 01:25:08 -0400 (Wed, 17 Apr 2024) EllapsedTime: 29.4 seconds RetCode: 0 Status: OK PackageFile: ROTS_1.30.0.tar.gz PackageFileSize: 454.8 KiB