Package: ROTS Version: 1.30.0 Command: rm -rf ROTS.buildbin-libdir && mkdir ROTS.buildbin-libdir && /Users/biocbuild/BBS/utils/build-universal.sh ROTS_1.30.0.tar.gz /Library/Frameworks/R.framework/Resources/bin/R ROTS.buildbin-libdir StartedAt: 2024-04-18 11:01:11 -0400 (Thu, 18 Apr 2024) EndedAt: 2024-04-18 11:01:36 -0400 (Thu, 18 Apr 2024) EllapsedTime: 25.1 seconds RetCode: 0 Status: OK PackageFile: ROTS_1.30.0.tgz PackageFileSize: 524.2 KiB