Package: ROSeq Version: 1.14.0 Command: rm -rf ROSeq.buildbin-libdir && mkdir ROSeq.buildbin-libdir && /Users/biocbuild/BBS/utils/build-universal.sh ROSeq_1.14.0.tar.gz /Library/Frameworks/R.framework/Resources/bin/R ROSeq.buildbin-libdir StartedAt: 2024-04-18 11:01:09 -0400 (Thu, 18 Apr 2024) EndedAt: 2024-04-18 11:01:31 -0400 (Thu, 18 Apr 2024) EllapsedTime: 22.9 seconds RetCode: 0 Status: OK PackageFile: ROSeq_1.14.0.tgz PackageFileSize: 7.209 MiB