Package: RNAsense Version: 1.16.0 Command: /Library/Frameworks/R.framework/Resources/bin/R CMD INSTALL RNAsense StartedAt: 2024-04-16 10:34:16 -0400 (Tue, 16 Apr 2024) EndedAt: 2024-04-16 10:34:46 -0400 (Tue, 16 Apr 2024) EllapsedTime: 29.4 seconds RetCode: 0 Status: OK