Package: RNAmodR.RiboMethSeq Version: 1.16.0 Command: /Library/Frameworks/R.framework/Resources/bin/R CMD INSTALL RNAmodR.RiboMethSeq StartedAt: 2024-04-16 11:44:24 -0400 (Tue, 16 Apr 2024) EndedAt: 2024-04-16 11:45:36 -0400 (Tue, 16 Apr 2024) EllapsedTime: 71.8 seconds RetCode: 0 Status: OK