Package: RNAmodR.RiboMethSeq Version: 1.16.0 Command: rm -rf RNAmodR.RiboMethSeq.buildbin-libdir && mkdir RNAmodR.RiboMethSeq.buildbin-libdir && /Users/biocbuild/BBS/utils/build-universal.sh RNAmodR.RiboMethSeq_1.16.0.tar.gz /Library/Frameworks/R.framework/Resources/bin/R RNAmodR.RiboMethSeq.buildbin-libdir StartedAt: 2024-04-18 10:59:02 -0400 (Thu, 18 Apr 2024) EndedAt: 2024-04-18 11:00:29 -0400 (Thu, 18 Apr 2024) EllapsedTime: 86.6 seconds RetCode: 0 Status: OK PackageFile: RNAmodR.RiboMethSeq_1.16.0.tgz PackageFileSize: 718.7 KiB