Package: RNAmodR.ML Version: 1.16.0 Command: rm -rf RNAmodR.ML.buildbin-libdir && mkdir RNAmodR.ML.buildbin-libdir && /Users/biocbuild/BBS/utils/build-universal.sh RNAmodR.ML_1.16.0.tar.gz /Library/Frameworks/R.framework/Resources/bin/R RNAmodR.ML.buildbin-libdir StartedAt: 2024-04-18 10:58:55 -0400 (Thu, 18 Apr 2024) EndedAt: 2024-04-18 11:00:25 -0400 (Thu, 18 Apr 2024) EllapsedTime: 89.9 seconds RetCode: 0 Status: OK PackageFile: RNAmodR.ML_1.16.0.tgz PackageFileSize: 1.992 MiB