Package: RNAdecay Version: 1.22.2 Command: /Library/Frameworks/R.framework/Resources/bin/R CMD INSTALL RNAdecay StartedAt: 2024-04-16 11:46:32 -0400 (Tue, 16 Apr 2024) EndedAt: 2024-04-16 11:52:25 -0400 (Tue, 16 Apr 2024) EllapsedTime: 353.6 seconds RetCode: 0 Status: OK