Package: RNAdecay Version: 1.22.2 Command: /Library/Frameworks/R.framework/Resources/bin/R CMD check --install=check:RNAdecay.install-out.txt --library=/Library/Frameworks/R.framework/Resources/library --no-vignettes --timings RNAdecay_1.22.2.tar.gz StartedAt: 2024-04-18 01:34:39 -0400 (Thu, 18 Apr 2024) EndedAt: 2024-04-18 01:36:27 -0400 (Thu, 18 Apr 2024) EllapsedTime: 107.9 seconds RetCode: 0 Status: OK CheckDir: RNAdecay.Rcheck Warnings: 0