Package: RNAdecay Version: 1.22.2 Command: rm -rf RNAdecay.buildbin-libdir && mkdir RNAdecay.buildbin-libdir && /Users/biocbuild/BBS/utils/build-universal.sh RNAdecay_1.22.2.tar.gz /Library/Frameworks/R.framework/Resources/bin/R RNAdecay.buildbin-libdir StartedAt: 2024-04-18 10:57:44 -0400 (Thu, 18 Apr 2024) EndedAt: 2024-04-18 11:05:19 -0400 (Thu, 18 Apr 2024) EllapsedTime: 454.6 seconds RetCode: 0 Status: OK PackageFile: RNAdecay_1.22.2.tgz PackageFileSize: 5.14 MiB