Package: RNASeqPower Version: 1.42.0 Command: /Library/Frameworks/R.framework/Resources/bin/R CMD check --install=check:RNASeqPower.install-out.txt --library=/Library/Frameworks/R.framework/Resources/library --no-vignettes --timings RNASeqPower_1.42.0.tar.gz StartedAt: 2024-04-18 01:44:07 -0400 (Thu, 18 Apr 2024) EndedAt: 2024-04-18 01:44:28 -0400 (Thu, 18 Apr 2024) EllapsedTime: 21.4 seconds RetCode: 0 Status: OK CheckDir: RNASeqPower.Rcheck Warnings: 0