Package: RMassBank Version: 3.12.0 Command: /Library/Frameworks/R.framework/Resources/bin/R CMD INSTALL RMassBank StartedAt: 2024-04-16 12:34:02 -0400 (Tue, 16 Apr 2024) EndedAt: 2024-04-16 12:34:03 -0400 (Tue, 16 Apr 2024) EllapsedTime: 1.4 seconds RetCode: 1 Status: ERROR