Package: RMassBank Version: 3.12.0 Command: /Library/Frameworks/R.framework/Resources/bin/R CMD build --keep-empty-dirs --no-resave-data RMassBank StartedAt: 2024-04-17 01:10:53 -0400 (Wed, 17 Apr 2024) EndedAt: 2024-04-17 01:10:55 -0400 (Wed, 17 Apr 2024) EllapsedTime: 2.3 seconds RetCode: 1 Status: ERROR PackageFile: None PackageFileSize: NA