Package: RLassoCox Version: 1.10.0 Command: rm -rf RLassoCox.buildbin-libdir && mkdir RLassoCox.buildbin-libdir && /Users/biocbuild/BBS/utils/build-universal.sh RLassoCox_1.10.0.tar.gz /Library/Frameworks/R.framework/Resources/bin/R RLassoCox.buildbin-libdir StartedAt: 2024-04-18 10:56:55 -0400 (Thu, 18 Apr 2024) EndedAt: 2024-04-18 10:57:05 -0400 (Thu, 18 Apr 2024) EllapsedTime: 10.2 seconds RetCode: 0 Status: OK PackageFile: RLassoCox_1.10.0.tgz PackageFileSize: 1.992 MiB