Package: RIVER Version: 1.26.0 Command: /Library/Frameworks/R.framework/Resources/bin/R CMD check --install=check:RIVER.install-out.txt --library=/Library/Frameworks/R.framework/Resources/library --no-vignettes --timings RIVER_1.26.0.tar.gz StartedAt: 2024-04-18 01:29:18 -0400 (Thu, 18 Apr 2024) EndedAt: 2024-04-18 01:32:15 -0400 (Thu, 18 Apr 2024) EllapsedTime: 176.6 seconds RetCode: 0 Status: OK CheckDir: RIVER.Rcheck Warnings: 0