Package: RIVER Version: 1.26.0 Command: /Library/Frameworks/R.framework/Resources/bin/R CMD build --keep-empty-dirs --no-resave-data RIVER StartedAt: 2024-04-17 01:08:40 -0400 (Wed, 17 Apr 2024) EndedAt: 2024-04-17 01:09:08 -0400 (Wed, 17 Apr 2024) EllapsedTime: 27.1 seconds RetCode: 0 Status: OK PackageFile: RIVER_1.26.0.tar.gz PackageFileSize: 1.471 MiB