Package: RAREsim Version: 1.6.0 Command: rm -rf RAREsim.buildbin-libdir && mkdir RAREsim.buildbin-libdir && /Users/biocbuild/BBS/utils/build-universal.sh RAREsim_1.6.0.tar.gz /Library/Frameworks/R.framework/Resources/bin/R RAREsim.buildbin-libdir StartedAt: 2024-04-18 10:45:01 -0400 (Thu, 18 Apr 2024) EndedAt: 2024-04-18 10:45:06 -0400 (Thu, 18 Apr 2024) EllapsedTime: 4.6 seconds RetCode: 0 Status: OK PackageFile: RAREsim_1.6.0.tgz PackageFileSize: 317.5 KiB