Package: R3CPET Version: 1.34.0 Command: /Library/Frameworks/R.framework/Resources/bin/R CMD INSTALL R3CPET StartedAt: 2024-01-16 11:51:10 -0500 (Tue, 16 Jan 2024) EndedAt: 2024-01-16 11:51:26 -0500 (Tue, 16 Jan 2024) EllapsedTime: 15.3 seconds RetCode: 1 Status: ERROR