Package: R3CPET Version: 1.34.0 Command: /Library/Frameworks/R.framework/Resources/bin/R CMD build --keep-empty-dirs --no-resave-data R3CPET StartedAt: 2024-01-17 00:07:00 -0500 (Wed, 17 Jan 2024) EndedAt: 2024-01-17 00:07:17 -0500 (Wed, 17 Jan 2024) EllapsedTime: 16.0 seconds RetCode: 1 Status: ERROR PackageFile: None PackageFileSize: NA