Package: PeacoQC Version: 1.12.0 Command: rm -rf PeacoQC.buildbin-libdir && mkdir PeacoQC.buildbin-libdir && /Users/biocbuild/BBS/utils/build-universal.sh PeacoQC_1.12.0.tar.gz /Library/Frameworks/R.framework/Resources/bin/R PeacoQC.buildbin-libdir StartedAt: 2024-04-18 10:32:49 -0400 (Thu, 18 Apr 2024) EndedAt: 2024-04-18 10:33:12 -0400 (Thu, 18 Apr 2024) EllapsedTime: 23.0 seconds RetCode: 0 Status: OK PackageFile: PeacoQC_1.12.0.tgz PackageFileSize: 1.598 MiB