Package: PanViz Version: 1.4.0 Command: /Library/Frameworks/R.framework/Resources/bin/R CMD check --install=check:PanViz.install-out.txt --library=/Library/Frameworks/R.framework/Resources/library --no-vignettes --timings PanViz_1.4.0.tar.gz StartedAt: 2024-04-17 22:30:58 -0400 (Wed, 17 Apr 2024) EndedAt: 2024-04-17 22:31:59 -0400 (Wed, 17 Apr 2024) EllapsedTime: 61.5 seconds RetCode: 0 Status: OK CheckDir: PanViz.Rcheck Warnings: 0