Package: PanViz Version: 1.4.0 Command: /Library/Frameworks/R.framework/Resources/bin/R CMD build --keep-empty-dirs --no-resave-data PanViz StartedAt: 2024-04-16 23:31:08 -0400 (Tue, 16 Apr 2024) EndedAt: 2024-04-16 23:31:30 -0400 (Tue, 16 Apr 2024) EllapsedTime: 21.8 seconds RetCode: 0 Status: OK PackageFile: PanViz_1.4.0.tar.gz PackageFileSize: 2.124 MiB