Package: PREDA Version: 1.48.0 Maintainer: Francesco Ferrari MaintainerEmail: francesco.ferrari at ifom.eu git_url: https://git.bioconductor.org/packages/PREDA git_branch: RELEASE_3_18 git_last_commit: 8c10ef8 git_last_commit_date: 2023-10-24 09:47:33 -0400 (Tue, 24 Oct 2023)