Package: PPInfer Version: 1.28.0 Command: /Library/Frameworks/R.framework/Resources/bin/R CMD INSTALL PPInfer StartedAt: 2024-04-16 12:07:32 -0400 (Tue, 16 Apr 2024) EndedAt: 2024-04-16 12:08:02 -0400 (Tue, 16 Apr 2024) EllapsedTime: 29.5 seconds RetCode: 0 Status: OK