Package: POWSC Version: 1.10.0 Maintainer: Kenong Su MaintainerEmail: kenong.su at emory.edu git_url: https://git.bioconductor.org/packages/POWSC git_branch: RELEASE_3_18 git_last_commit: 128061c git_last_commit_date: 2023-10-24 11:33:15 -0400 (Tue, 24 Oct 2023)