Package: PLPE Version: 1.62.0 Command: /Library/Frameworks/R.framework/Resources/bin/R CMD INSTALL PLPE StartedAt: 2024-04-16 10:05:28 -0400 (Tue, 16 Apr 2024) EndedAt: 2024-04-16 10:05:33 -0400 (Tue, 16 Apr 2024) EllapsedTime: 4.6 seconds RetCode: 0 Status: OK