Package: PLPE Version: 1.62.0 Command: rm -rf PLPE.buildbin-libdir && mkdir PLPE.buildbin-libdir && /Users/biocbuild/BBS/utils/build-universal.sh PLPE_1.62.0.tar.gz /Library/Frameworks/R.framework/Resources/bin/R PLPE.buildbin-libdir StartedAt: 2024-04-18 10:35:59 -0400 (Thu, 18 Apr 2024) EndedAt: 2024-04-18 10:36:06 -0400 (Thu, 18 Apr 2024) EllapsedTime: 6.9 seconds RetCode: 0 Status: OK PackageFile: PLPE_1.62.0.tgz PackageFileSize: 301.2 KiB