Package: PING Version: 2.46.0 Command: /Library/Frameworks/R.framework/Resources/bin/R CMD build --keep-empty-dirs --no-resave-data PING StartedAt: 2024-04-16 23:46:52 -0400 (Tue, 16 Apr 2024) EndedAt: 2024-04-16 23:46:55 -0400 (Tue, 16 Apr 2024) EllapsedTime: 3.4 seconds RetCode: 0 Status: OK PackageFile: PING_2.46.0.tar.gz PackageFileSize: 4.51 MiB