Package: PICS Version: 2.46.0 Command: /Library/Frameworks/R.framework/Resources/bin/R CMD INSTALL PICS StartedAt: 2024-04-16 10:46:34 -0400 (Tue, 16 Apr 2024) EndedAt: 2024-04-16 10:47:17 -0400 (Tue, 16 Apr 2024) EllapsedTime: 43.0 seconds RetCode: 0 Status: OK