Package: PICS Version: 2.46.0 Command: /Library/Frameworks/R.framework/Resources/bin/R CMD check --install=check:PICS.install-out.txt --library=/Library/Frameworks/R.framework/Resources/library --no-vignettes --timings PICS_2.46.0.tar.gz StartedAt: 2024-04-17 23:05:13 -0400 (Wed, 17 Apr 2024) EndedAt: 2024-04-17 23:08:47 -0400 (Wed, 17 Apr 2024) EllapsedTime: 214.8 seconds RetCode: 0 Status: WARNINGS CheckDir: PICS.Rcheck Warnings: 1