Package: PICS Version: 2.46.0 Command: /Library/Frameworks/R.framework/Resources/bin/R CMD build --keep-empty-dirs --no-resave-data PICS StartedAt: 2024-04-16 23:45:43 -0400 (Tue, 16 Apr 2024) EndedAt: 2024-04-16 23:46:52 -0400 (Tue, 16 Apr 2024) EllapsedTime: 68.7 seconds RetCode: 0 Status: OK PackageFile: PICS_2.46.0.tar.gz PackageFileSize: 723.7 KiB