Package: PCAtools Version: 2.14.0 Command: /Library/Frameworks/R.framework/Resources/bin/R CMD INSTALL PCAtools StartedAt: 2024-04-16 12:24:50 -0400 (Tue, 16 Apr 2024) EndedAt: 2024-04-16 12:25:30 -0400 (Tue, 16 Apr 2024) EllapsedTime: 40.0 seconds RetCode: 0 Status: OK