Package: OrderedList Version: 1.74.0 Command: rm -rf OrderedList.buildbin-libdir && mkdir OrderedList.buildbin-libdir && /Users/biocbuild/BBS/utils/build-universal.sh OrderedList_1.74.0.tar.gz /Library/Frameworks/R.framework/Resources/bin/R OrderedList.buildbin-libdir StartedAt: 2024-04-18 10:28:52 -0400 (Thu, 18 Apr 2024) EndedAt: 2024-04-18 10:28:59 -0400 (Thu, 18 Apr 2024) EllapsedTime: 6.9 seconds RetCode: 0 Status: OK PackageFile: OrderedList_1.74.0.tgz PackageFileSize: 1.105 MiB