Package: OpenStats Version: 1.14.0 Command: /Library/Frameworks/R.framework/Resources/bin/R CMD INSTALL OpenStats StartedAt: 2024-04-16 12:06:18 -0400 (Tue, 16 Apr 2024) EndedAt: 2024-04-16 12:06:35 -0400 (Tue, 16 Apr 2024) EllapsedTime: 16.8 seconds RetCode: 0 Status: OK