Package: OmnipathR Version: 3.10.1 Maintainer: Denes Turei MaintainerEmail: turei.denes at gmail.com git_url: https://git.bioconductor.org/packages/OmnipathR git_branch: RELEASE_3_18 git_last_commit: b1b2bab git_last_commit_date: 2023-10-25 11:47:10 -0400 (Wed, 25 Oct 2023)