Package: Omixer Version: 1.12.0 Command: /Library/Frameworks/R.framework/Resources/bin/R CMD INSTALL Omixer StartedAt: 2024-04-16 10:31:55 -0400 (Tue, 16 Apr 2024) EndedAt: 2024-04-16 10:32:01 -0400 (Tue, 16 Apr 2024) EllapsedTime: 6.0 seconds RetCode: 0 Status: OK