Package: OmicsLonDA Version: 1.18.0 Command: /Library/Frameworks/R.framework/Resources/bin/R CMD INSTALL OmicsLonDA StartedAt: 2024-04-16 10:42:04 -0400 (Tue, 16 Apr 2024) EndedAt: 2024-04-16 10:42:25 -0400 (Tue, 16 Apr 2024) EllapsedTime: 20.9 seconds RetCode: 1 Status: ERROR