Package: OmicCircos Version: 1.40.0 Command: /Library/Frameworks/R.framework/Resources/bin/R CMD check --install=check:OmicCircos.install-out.txt --library=/Library/Frameworks/R.framework/Resources/library --no-vignettes --timings OmicCircos_1.40.0.tar.gz StartedAt: 2024-04-17 21:51:21 -0400 (Wed, 17 Apr 2024) EndedAt: 2024-04-17 21:52:55 -0400 (Wed, 17 Apr 2024) EllapsedTime: 94.6 seconds RetCode: 0 Status: WARNINGS CheckDir: OmicCircos.Rcheck Warnings: 1