Package: OmicCircos Version: 1.40.0 Command: /Library/Frameworks/R.framework/Resources/bin/R CMD build --keep-empty-dirs --no-resave-data OmicCircos StartedAt: 2024-04-16 23:07:00 -0400 (Tue, 16 Apr 2024) EndedAt: 2024-04-16 23:07:35 -0400 (Tue, 16 Apr 2024) EllapsedTime: 35.3 seconds RetCode: 0 Status: OK PackageFile: OmicCircos_1.40.0.tar.gz PackageFileSize: 4.956 MiB