Package: OmaDB Version: 2.18.0 Command: /Library/Frameworks/R.framework/Resources/bin/R CMD build --keep-empty-dirs --no-resave-data OmaDB StartedAt: 2024-04-16 23:06:28 -0400 (Tue, 16 Apr 2024) EndedAt: 2024-04-16 23:07:00 -0400 (Tue, 16 Apr 2024) EllapsedTime: 31.7 seconds RetCode: 0 Status: OK PackageFile: OmaDB_2.18.0.tar.gz PackageFileSize: 98 KiB