Package: OVESEG Version: 1.18.0 Command: /Library/Frameworks/R.framework/Resources/bin/R CMD INSTALL OVESEG StartedAt: 2024-04-16 10:42:09 -0400 (Tue, 16 Apr 2024) EndedAt: 2024-04-16 10:42:32 -0400 (Tue, 16 Apr 2024) EllapsedTime: 23.3 seconds RetCode: 0 Status: OK