Package: ORFhunteR Version: 1.10.0 Command: /Library/Frameworks/R.framework/Resources/bin/R CMD INSTALL ORFhunteR StartedAt: 2024-04-16 10:53:43 -0400 (Tue, 16 Apr 2024) EndedAt: 2024-04-16 10:54:41 -0400 (Tue, 16 Apr 2024) EllapsedTime: 58.2 seconds RetCode: 0 Status: OK