Package: OLINgui Version: 1.76.0 Command: /Library/Frameworks/R.framework/Resources/bin/R CMD check --install=check:OLINgui.install-out.txt --library=/Library/Frameworks/R.framework/Resources/library --no-vignettes --timings OLINgui_1.76.0.tar.gz StartedAt: 2024-04-17 21:46:28 -0400 (Wed, 17 Apr 2024) EndedAt: 2024-04-17 21:47:06 -0400 (Wed, 17 Apr 2024) EllapsedTime: 38.3 seconds RetCode: 0 Status: OK CheckDir: OLINgui.Rcheck Warnings: 0