Package: OLIN Version: 1.80.0 Command: /Library/Frameworks/R.framework/Resources/bin/R CMD build --keep-empty-dirs --no-resave-data OLIN StartedAt: 2024-04-16 23:05:45 -0400 (Tue, 16 Apr 2024) EndedAt: 2024-04-16 23:06:28 -0400 (Tue, 16 Apr 2024) EllapsedTime: 43.0 seconds RetCode: 0 Status: OK PackageFile: OLIN_1.80.0.tar.gz PackageFileSize: 2.554 MiB