Package: OGRE Version: 1.6.0 Command: /Library/Frameworks/R.framework/Resources/bin/R CMD check --install=check:OGRE.install-out.txt --library=/Library/Frameworks/R.framework/Resources/library --no-vignettes --timings OGRE_1.6.0.tar.gz StartedAt: 2024-04-17 21:42:07 -0400 (Wed, 17 Apr 2024) EndedAt: 2024-04-17 21:51:22 -0400 (Wed, 17 Apr 2024) EllapsedTime: 554.8 seconds RetCode: 0 Status: OK CheckDir: OGRE.Rcheck Warnings: 0