Package: NuPoP Version: 2.10.0 Command: /Library/Frameworks/R.framework/Resources/bin/R CMD check --install=check:NuPoP.install-out.txt --library=/Library/Frameworks/R.framework/Resources/library --no-vignettes --timings NuPoP_2.10.0.tar.gz StartedAt: 2024-04-17 21:40:10 -0400 (Wed, 17 Apr 2024) EndedAt: 2024-04-17 21:40:48 -0400 (Wed, 17 Apr 2024) EllapsedTime: 37.9 seconds RetCode: 0 Status: OK CheckDir: NuPoP.Rcheck Warnings: 0