Package: NormqPCR Version: 1.48.0 Command: /Library/Frameworks/R.framework/Resources/bin/R CMD INSTALL NormqPCR StartedAt: 2024-04-16 11:44:14 -0400 (Tue, 16 Apr 2024) EndedAt: 2024-04-16 11:44:23 -0400 (Tue, 16 Apr 2024) EllapsedTime: 9.4 seconds RetCode: 0 Status: OK